BEGIN:VCALENDAR
VERSION:2.0
PRODID:-//Cranbrook Academy of Art - ECPv6.15.18//NONSGML v1.0//EN
CALSCALE:GREGORIAN
METHOD:PUBLISH
X-WR-CALNAME:Cranbrook Academy of Art
X-ORIGINAL-URL:https://cranbrookart.edu
X-WR-CALDESC:Events for Cranbrook Academy of Art
REFRESH-INTERVAL;VALUE=DURATION:PT1H
X-Robots-Tag:noindex
X-PUBLISHED-TTL:PT1H
BEGIN:VTIMEZONE
TZID:America/Detroit
BEGIN:DAYLIGHT
TZOFFSETFROM:-0500
TZOFFSETTO:-0400
TZNAME:EDT
DTSTART:20210314T070000
END:DAYLIGHT
BEGIN:STANDARD
TZOFFSETFROM:-0400
TZOFFSETTO:-0500
TZNAME:EST
DTSTART:20211107T060000
END:STANDARD
BEGIN:DAYLIGHT
TZOFFSETFROM:-0500
TZOFFSETTO:-0400
TZNAME:EDT
DTSTART:20220313T070000
END:DAYLIGHT
BEGIN:STANDARD
TZOFFSETFROM:-0400
TZOFFSETTO:-0500
TZNAME:EST
DTSTART:20221106T060000
END:STANDARD
BEGIN:DAYLIGHT
TZOFFSETFROM:-0500
TZOFFSETTO:-0400
TZNAME:EDT
DTSTART:20230312T070000
END:DAYLIGHT
BEGIN:STANDARD
TZOFFSETFROM:-0400
TZOFFSETTO:-0500
TZNAME:EST
DTSTART:20231105T060000
END:STANDARD
END:VTIMEZONE
BEGIN:VTIMEZONE
TZID:UTC
BEGIN:STANDARD
TZOFFSETFROM:+0000
TZOFFSETTO:+0000
TZNAME:UTC
DTSTART:20180101T000000
END:STANDARD
END:VTIMEZONE
BEGIN:VEVENT
DTSTART;TZID=America/Detroit:20221123T160000
DTEND;TZID=America/Detroit:20221123T170000
DTSTAMP:20260425T073236
CREATED:20220909T135527Z
LAST-MODIFIED:20251219T103932Z
UID:19755-1669219200-1669222800@cranbrookart.edu
SUMMARY:Q+A Session: Applications\, Fellowships\, and More!
DESCRIPTION:Join us for a virtual Question and Answer Session on November 23\, 2022. We’ll be answering your questions and providing tips on your application\, available fellowships\, and more. \nRSVP for confirmation and reminders!
URL:https://cranbrookart.edu/event/qa-session-applications-fellowships-and-more/
LOCATION:Online
CATEGORIES:Admissions Events,Virtual
ORGANIZER;CN="Cranbrook Academy of Art":MAILTO:CAAadmissions@cranbrook.edu
END:VEVENT
BEGIN:VEVENT
DTSTART;TZID=America/Detroit:20221116T160000
DTEND;TZID=America/Detroit:20221116T170000
DTSTAMP:20260425T073236
CREATED:20220909T134844Z
LAST-MODIFIED:20251204T100536Z
UID:19752-1668614400-1668618000@cranbrookart.edu
SUMMARY:Architecture Alumni Panel
DESCRIPTION:Join us for a Virtual Alumni Panel discussion about the Cranbrook Experience from former graduates! Elizabeth Dizik\, Recruitment Manager\, will be joined by: \n\nDean Sakamoto (MArch Architecture 1992)\nQuynh Vantu (MArch Architecture 2009)\nHanna Dewhirst (MArch Architecture 2017)\n\nRSVP for confirmation and reminders!
URL:https://cranbrookart.edu/event/architecture-alumni-panel/
LOCATION:Online
CATEGORIES:Admissions Events,Virtual
ORGANIZER;CN="Cranbrook Academy of Art":MAILTO:CAAadmissions@cranbrook.edu
END:VEVENT
BEGIN:VEVENT
DTSTART;TZID=America/Detroit:20221112T100000
DTEND;TZID=America/Detroit:20221112T160000
DTSTAMP:20260425T073236
CREATED:20220921T192248Z
LAST-MODIFIED:20251224T112742Z
UID:19808-1668247200-1668268800@cranbrookart.edu
SUMMARY:Cranbrook Academy of Art Graduate Open House
DESCRIPTION:Please join us on the Cranbrook Academy of Art campus to meet Artists-in-Residence\, current students\, and alumni\, tour studio spaces\, learn about life on campus\, and visit the Cranbrook Art Museum. Please RSVP for the Graduate Open House on Eventbrite. \nCranbrook Academy of Art offers a singularly unique educational model. At the core\, it hinges on the belief that extraordinary things can happen when people are given time and space to explore their work in a supportive and inclusive community. \nThe Academy is a graduate program free from conventional classes. Instead of a fixed curriculum\, we offer an unscripted approach that centers the questions and interests of artists who choose to come here as they strive to make sense of an ever-changing world. \nOur unique program offers an intense studio-based experience comprised of 150 graduate students where Artists-in-Residence mentor students in Architecture\, 2D\, 3D\, and 4D Design\, Ceramics\, Fiber\, Metalsmithing\, Painting\, Photography\, Print Media\, and Sculpture to creatively influence contemporary culture. The curriculum is structured around self-directed studio work\, critique\, a rigorous academic program\, and a robust schedule of visiting artists\, architects\, designers\, and thinkers. \nThe Academy is a community of makers all of whom live and practice alongside each other on our extraordinary historic campus. Our graduates not only leave with an MFA or M.Arch degree but a cohort of thinking partners\, co-conspirators\, and collaborators who will be their creative community for a lifetime. \nFind out if the Academy is right for your next step at our Graduate Open House on November 12\, from 10am-4pm. Meet Artists-in-Residence\, tour studio spaces\, learn about life on campus\, and enjoy a Collections Wing Tour at the Cranbrook Art Museum. \nOur competitive 2-year MFA or MArch programs are ideal for motivated students who want to take their work to the next level. Cranbrook offers opportunities for full tuition support and grants while offering unlimited studio time and full access to our on-site contemporary art museum. \n  \nGraduate Open House Schedule of Events Saturday\, November 12\, 2022 10am – 4pm: \n\nUpon arrival: Check-In at the Cranbrook Academy of Art Library\, directly across the peristyle from the Cranbrook Art Museum\n10am: Studios open! Meet Artists-in-Residence\, current students\, and tour each of our 11 studios.\n2-3:00pm: Campus Life & Financial Aid Q+A\n3:00pm: Collections Wing Tour\n4pm: Studios close
URL:https://cranbrookart.edu/event/cranbrook-academy-of-art-graduate-open-house/
LOCATION:Cranbrook Academy of Art\, 39221 Woodward Ave\, Bloomfield Hills\, 48303\, United States
CATEGORIES:Admissions Events,Open House
ATTACH;FMTTYPE=image/png:https://cranbrookart.edu/wp-content/uploads/2019/08/OpenHouse.png
ORGANIZER;CN="Cranbrook Academy of Art":MAILTO:CAAadmissions@cranbrook.edu
END:VEVENT
BEGIN:VEVENT
DTSTART;TZID=America/Detroit:20221109T160000
DTEND;TZID=America/Detroit:20221109T170000
DTSTAMP:20260425T073236
CREATED:20220908T184416Z
LAST-MODIFIED:20251230T131523Z
UID:19737-1668009600-1668013200@cranbrookart.edu
SUMMARY:Artists-in-Residence Panel: 4D Design\, Print Media\, Sculpture
DESCRIPTION:What does it mean to study under the mentorship of Cranbrook Academy of Art’s Artists-in-Residence? This question and more will be answered by Emmy Bright and Coper Holoweski\, Artists-in-Residence\, Co-heads of Print Media; Rebecca Ripple\, Artist-in-Residence\, Head of the Sculpture Department; Carla Diana\, Head of 4D Design; Academy staff in this webinar. Join us! \nPlease RSVP for confirmation and reminders.
URL:https://cranbrookart.edu/event/artists-in-residence-panel-print-media-sculpture/
LOCATION:Online
CATEGORIES:Admissions Events,Virtual
ORGANIZER;CN="Cranbrook Academy of Art":MAILTO:CAAadmissions@cranbrook.edu
END:VEVENT
BEGIN:VEVENT
DTSTART;TZID=America/Detroit:20221026T160000
DTEND;TZID=America/Detroit:20221026T170000
DTSTAMP:20260425T073236
CREATED:20220908T204955Z
LAST-MODIFIED:20251230T131732Z
UID:19749-1666800000-1666803600@cranbrookart.edu
SUMMARY:Artists-in-Residence Panel: 3D Design\, Metalsmithing\, Photography
DESCRIPTION:What does it mean to study under the mentorship of Cranbrook Academy of Art’s Artists-in-Residence? This question and more will be answered by Scott Klinker\, Designer-in-Residence\, Head of the 3D Design Department; Iris Eichenberg\, Artist-in-Residence\, Head of the Metalsmithing department; Chris Fraser\, Artist-in-Residence\, Head of the Photography department; Academy staff in this webinar. Join us! \nRSVP for confirmation and reminders!
URL:https://cranbrookart.edu/event/artists-in-residence-panel-3d-design-metalsmithing-photography/
LOCATION:Online
CATEGORIES:Admissions Events,Virtual
END:VEVENT
BEGIN:VEVENT
DTSTART;TZID=America/Detroit:20221019T160000
DTEND;TZID=America/Detroit:20221019T170000
DTSTAMP:20260425T073236
CREATED:20220908T190732Z
LAST-MODIFIED:20251230T131610Z
UID:19741-1666195200-1666198800@cranbrookart.edu
SUMMARY:Artists-in-Residence Panel: Fiber\, Painting
DESCRIPTION:What does it mean to study under the mentorship of Cranbrook Academy of Art’s Artists-in-Residence? This question and more will be answered by Mark Newport\, Artist-in-Residence\, Head of the Fiber Department; Martha Mysko and Willie Wayne Smith\, Artists-in-Residence\, Co-heads of the Painting department; and Academy staff in this webinar. Join us! \nRSVP for confirmation and reminders.
URL:https://cranbrookart.edu/event/artists-in-residence-panel-fiber-painting/
LOCATION:Online
CATEGORIES:Admissions Events,Virtual
ORGANIZER;CN="Cranbrook Academy of Art":MAILTO:CAAadmissions@cranbrook.edu
END:VEVENT
BEGIN:VEVENT
DTSTART;TZID=America/Detroit:20221012T160000
DTEND;TZID=America/Detroit:20221012T170000
DTSTAMP:20260425T073236
CREATED:20220908T190016Z
LAST-MODIFIED:20251230T131825Z
UID:19739-1665590400-1665594000@cranbrookart.edu
SUMMARY:Artists-in-Residence Panel: 2D Design\, Architecture\, Ceramics
DESCRIPTION:What does it mean to study under the mentorship of Cranbrook Academy of Art’s Artists-in-Residence? This question and more will be answered by Elliott Earls\, Designer-in-Residence\, Head of the 2D Design Department; Gretchen Wilkins\, Architect-in-Residence\, head of Architecture; Ian McDonald\, Artist-in-Residence\, Head of the Ceramics department; and Academy staff in this webinar. Join us! \nRSVP for confirmation and reminders.
URL:https://cranbrookart.edu/event/artists-in-residence-panel-2d-design-architecture-ceramics/
LOCATION:Online
CATEGORIES:Admissions Events,Virtual
ORGANIZER;CN="Cranbrook Academy of Art":MAILTO:CAAadmissions@cranbrook.edu
END:VEVENT
BEGIN:VEVENT
DTSTART;TZID=America/Detroit:20220928T160000
DTEND;TZID=America/Detroit:20220928T170000
DTSTAMP:20260425T073236
CREATED:20220908T163646Z
LAST-MODIFIED:20251218T095034Z
UID:19734-1664380800-1664384400@cranbrookart.edu
SUMMARY:Webinar: What is Cranbrook Academy of Art?
DESCRIPTION:What is it like to study at Cranbrook Academy of Art? What do our studios look like? What does it mean to study with one Artist-in-Residence? These questions and more will be answered by Elizabeth Dizik\, Recruitment Manager and fellow alumni in this webinar. Join us! \nPlease RSVP for event confirmation and reminders!
URL:https://cranbrookart.edu/event/webinar-what-is-cranbrook-academy-of-art/
LOCATION:Online
CATEGORIES:Admissions Events,Virtual
ORGANIZER;CN="Cranbrook Academy of Art":MAILTO:CAAadmissions@cranbrook.edu
END:VEVENT
BEGIN:VEVENT
DTSTART;TZID=UTC:20191012T100000
DTEND;TZID=UTC:20191012T160000
DTSTAMP:20260425T073236
CREATED:20190827T175334Z
LAST-MODIFIED:20251224T110612Z
UID:15459-1570874400-1570896000@cranbrookart.edu
SUMMARY:Graduate Open House 2019
DESCRIPTION:While most graduate programs grow out of their undergraduate model\, Cranbrook Academy of Art offers something entirely different. Ranked as the top studio-based graduate-only program in the United States\, Cranbrook is exclusively devoted to producing graduates that are immediately prepared to enter the world of art\, architecture and design. \nOur unique program offers an intense studio-based experience comprised of 150 graduate students where Artists-in-Residence mentor students in Architecture\, 2D\, 3D\, and 4D Design\, Ceramics\, Fiber\, Metalsmithing\, Painting\, Photography\, Print Media\, and Sculpture to creatively influence contemporary culture. The curriculum is structured around self-directed studio work\, critique\, a rigorous academic program and a robust schedule of visiting artists\, architects\, designers\, and thinkers. \nThe Academy is a community of makers all of whom live and practice alongside each other on our extraordinary historic campus. Our graduates not only leave with an MFA or MArch degree\, but a cohort of thinking partners\, co-conspirators\, collaborators who will be their creative community for a lifetime. \nFind out if the Academy is right for your next step at our Graduate Open House on October 12\, from 10am-4pm. Meet Artists-in-Residence\, tour studio spaces\, learn about life on campus and enjoy a complimentary brunch in our private Eliel Saarinen-designed dining hall. \nOur competitive 2-year MFA or MArch programs are ideal for motivated students who want to take their work to the next level. Cranbrook offers opportunities for full tuition support and grants while offering unlimited studio time and full access to our on-site contemporary art museum. \nGraduate Open House Schedule of Events\nSaturday\, October 12\, 2019 \n10am – 4pm: Upon arrival: Check-In at the Art Academy Library\n*Directly across the peristyle from the Cranbrook Art Museum \n10am: Studios open! Meet Artists-in-Residence\, current students\, and tour each of our 11 studios. \n11am-1pm: Dining Hall open for brunch \n2-3:30: Campus Life & Financial Aid Q+A \n4pm: Studios close \nRegister here!
URL:https://cranbrookart.edu/event/graduate-open-house-2019/
LOCATION:Cranbrook Academy of Art\, 39221 Woodward Ave\, Bloomfield Hills\, 48303\, United States
CATEGORIES:Admissions Events,Open House
ATTACH;FMTTYPE=image/png:https://cranbrookart.edu/wp-content/uploads/2019/08/OpenHouse.png
END:VEVENT
END:VCALENDAR